BEGIN:VCALENDAR
VERSION:2.0
PRODID:-//Kulvio Event Calendar//kulvio.de//
CALSCALE:GREGORIAN
METHOD:PUBLISH
BEGIN:VEVENT
SUMMARY:Das achte Leben (Für Brilka)
DTSTART:20260614T130000Z
DTEND:20260614T174500Z
DTSTAMP:20260419T232626Z
UID:kulvio-event-2328@kulvio.de
CATEGORIES:Theater,Show
CREATED:20260417T130817Z
DESCRIPTION:Nino Haratischwilis Familienepos Das achte Leben (Für Brilka)
  umspannt ein ganzes Jahrhundert georgischer Geschichte\, erzählt durch s
 echs Generationen einer Familie. Von der Zarenzeit über die Sowjetunion b
 is in die Gegenwart verwebt der Roman persönliche Schicksale mit politisc
 hen Umbrüchen. Liebe\, Verrat und das Geheimnis einer legendären Schokol
 adenrezeptur verbinden die Generationen miteinander. Die Bühnenadaption a
 m Staatstheater Mainz wird im Kleinen Haus gezeigt und dauert rund vier St
 unden und fünfundvierzig Minuten inklusive Pausen. Das Werk richtet sich 
 an Zuschauer\, die sich für große Erzählungen und die Geschichte des Ka
 ukasus interessieren.
GEO:49.999468;8.271102
LAST-MODIFIED:20260417T130947Z
LOCATION:Staatstheater Mainz\, Gutenbergplatz 7\, 55116\, Mainz
STATUS:CONFIRMED
URL:https://kulvio.de/event/2328
END:VEVENT
END:VCALENDAR
