BEGIN:VCALENDAR
VERSION:2.0
PRODID:-//Kulvio Event Calendar//kulvio.de//
CALSCALE:GREGORIAN
METHOD:PUBLISH
BEGIN:VEVENT
SUMMARY:SWR Bestenliste
DTSTART:20260617T180000Z
DTEND:20260617T190000Z
DTSTAMP:20260419T232825Z
UID:kulvio-event-2332@kulvio.de
CATEGORIES:Lesung,Vortrag
CREATED:20260417T130817Z
DESCRIPTION:Die SWR Bestenliste wird am Staatstheater Mainz in der Kakadu 
 Bar präsentiert. In der monatlich erscheinenden Liste empfehlen Literatur
 kritiker die besten neuen Bücher\, die bei dieser Veranstaltung vorgestel
 lt und besprochen werden. Die SWR Bestenliste ist eine der angesehensten u
 nabhängigen Buchempfehlungen im deutschsprachigen Raum und bietet dem Pub
 likum einen Überblick über aktuelle Neuerscheinungen. Die Veranstaltung 
 beginnt um 20 Uhr und eignet sich für literaturinteressierte Besucherinne
 n und Besucher\, die auf der Suche nach anspruchsvoller Lektüre sind.
GEO:49.999468;8.271102
LAST-MODIFIED:20260417T130947Z
LOCATION:Staatstheater Mainz\, Gutenbergplatz 7\, 55116\, Mainz
STATUS:CONFIRMED
URL:https://kulvio.de/event/2332
END:VEVENT
END:VCALENDAR
