BEGIN:VCALENDAR
VERSION:2.0
PRODID:-//Kulvio Event Calendar//kulvio.de//
CALSCALE:GREGORIAN
METHOD:PUBLISH
BEGIN:VEVENT
SUMMARY:Werther
DTSTART:20260618T173000Z
DTEND:20260618T191500Z
DTSTAMP:20260419T232631Z
UID:kulvio-event-2333@kulvio.de
CATEGORIES:Theater,Show
CREATED:20260417T130817Z
DESCRIPTION:Das Staatstheater Mainz zeigt Werther nach Johann Wolfgang von
  Goethes Briefroman Die Leiden des jungen Werthers in einer Bearbeitung vo
 n Brit Bartkowiak und Boris C. Motzki. Der junge Werther verliebt sich auf
  einem Ball in Lotte\, die jedoch mit Albert verlobt ist. Trotz Lottes Hei
 rat drängt Werther sich erneut in ihr Leben und steuert auf eine ausweglo
 se Situation zu. Julian von Hansemann spielt die Titelrolle in der Inszeni
 erung im Großen Haus des Staatstheaters. Die Produktion verlegt den Stoff
  in eine zeitgenössische Bildwelt und fragt nach der Aktualität von Goet
 hes Themen. Die Aufführung dauert eine Stunde und fünfundvierzig Minuten
  ohne Pause.
GEO:49.999468;8.271102
LAST-MODIFIED:20260417T130947Z
LOCATION:Staatstheater Mainz\, Gutenbergplatz 7\, 55116\, Mainz
STATUS:CONFIRMED
URL:https://kulvio.de/event/2333
END:VEVENT
END:VCALENDAR
