BEGIN:VCALENDAR
VERSION:2.0
PRODID:-//Kulvio Event Calendar//kulvio.de//
CALSCALE:GREGORIAN
METHOD:PUBLISH
BEGIN:VEVENT
SUMMARY:Refuge (UA)
DTSTART:20260618T173000Z
DTEND:20260618T183000Z
DTSTAMP:20260419T232825Z
UID:kulvio-event-2334@kulvio.de
CATEGORIES:Theater,Show
CREATED:20260417T130817Z
DESCRIPTION:Refuge feiert am 18. Juni 2026 als Uraufführung Premiere im K
 leinen Haus des Staatstheaters Mainz. Die Neuproduktion ist Teil des Reper
 toires der Spielzeit und behandelt aktuelle gesellschaftliche Themen in ei
 ner zeitgenössischen Theaterinszenierung. Der Titel verweist auf die Such
 e nach Schutz und Zuflucht in einer sich wandelnden Welt. Weitere Vorstell
 ungen finden am 21. und 23. Juni statt. Das Stück wird im Kleinen Haus am
  Gutenbergplatz gezeigt und richtet sich an ein erwachsenes Publikum\, das
  sich für zeitgenössisches Schauspiel interessiert.
GEO:49.999468;8.271102
LAST-MODIFIED:20260417T130947Z
LOCATION:Staatstheater Mainz\, Gutenbergplatz 7\, 55116\, Mainz
STATUS:CONFIRMED
URL:https://kulvio.de/event/2334
END:VEVENT
END:VCALENDAR
