BEGIN:VCALENDAR
VERSION:2.0
PRODID:-//Kulvio Event Calendar//kulvio.de//
CALSCALE:GREGORIAN
METHOD:PUBLISH
BEGIN:VEVENT
SUMMARY:Barfuß im Weltall (UA)
DTSTART:20260621T160000Z
DTEND:20260621T170000Z
DTSTAMP:20260419T233113Z
UID:kulvio-event-2336@kulvio.de
CATEGORIES:Theater,Konzert,Show
CREATED:20260417T130817Z
DESCRIPTION:Barfuß im Weltall feiert am 30. Mai 2026 Premiere am Staatsth
 eater Mainz als Uraufführung. Der Liederabend im Kleinen Haus verbindet M
 usik und Schauspiel zu einem besonderen Theaterabend und gehört zu den Ne
 uproduktionen der Spielzeit. Die Inszenierung nutzt die intimere Atmosphä
 re des Kleinen Hauses am Gutenbergplatz und bringt Lied\, Text und szenisc
 he Darstellung in einem abwechslungsreichen Programm zusammen. Weitere Vor
 stellungen finden im Juni statt. Das Stück richtet sich an ein Publikum\,
  das Freude an der Verbindung von Musik und Theater hat.
GEO:49.999468;8.271102
LAST-MODIFIED:20260417T130947Z
LOCATION:Staatstheater Mainz\, Gutenbergplatz 7\, 55116\, Mainz
STATUS:CONFIRMED
URL:https://kulvio.de/event/2336
END:VEVENT
END:VCALENDAR
