BEGIN:VCALENDAR
VERSION:2.0
PRODID:-//Kulvio Event Calendar//kulvio.de//
CALSCALE:GREGORIAN
METHOD:PUBLISH
BEGIN:VEVENT
SUMMARY:Falstaff
DTSTART:20260625T173000Z
DTEND:20260625T183000Z
DTSTAMP:20260419T233418Z
UID:kulvio-event-2342@kulvio.de
CATEGORIES:Theater,Konzert
CREATED:20260417T130817Z
DESCRIPTION:Giuseppe Verdis letzte Oper Falstaff feiert am 13. Juni 2026 P
 remiere am Staatstheater Mainz. Die bittersüße Komödie nach Shakespeare
 s Die lustigen Weiber von Windsor erzählt von Sir John Falstaff\, der ide
 ntische Liebesbriefe an zwei verheiratete Frauen schickt und daraufhin Opf
 er eines ausgeklügelten Racheplans wird. Verdi komponierte das Werk im Al
 ter von fast achtzig Jahren als Krönung seines Schaffens. Derrick Ballard
  singt die Titelrolle\, die musikalische Leitung hat Gabriel Venzago\, Reg
 ie führt Verena Stoiber. Die Aufführung findet im Großen Haus statt und
  wird vom Philharmonischen Staatsorchester Mainz begleitet.
GEO:49.999468;8.271102
LAST-MODIFIED:20260417T130947Z
LOCATION:Staatstheater Mainz\, Gutenbergplatz 7\, 55116\, Mainz
STATUS:CONFIRMED
URL:https://kulvio.de/event/2342
END:VEVENT
END:VCALENDAR
