BEGIN:VCALENDAR
VERSION:2.0
PRODID:-//Kulvio Event Calendar//kulvio.de//
CALSCALE:GREGORIAN
METHOD:PUBLISH
BEGIN:VEVENT
SUMMARY:Bekenntnisse des Hochstaplers Felix Krull
DTSTART:20260623T173000Z
DTEND:20260623T195500Z
DTSTAMP:20260419T233240Z
UID:kulvio-event-2343@kulvio.de
CATEGORIES:Theater,Show
CREATED:20260417T130817Z
DESCRIPTION:Thomas Manns Roman Bekenntnisse des Hochstaplers Felix Krull e
 rzählt die Lebensgeschichte eines charmanten Hochstaplers\, der aus dem R
 heingau stammt und nach dem Selbstmord seines Vaters in die Welt hinauszie
 ht. Im Pariser Luxushotel perfektioniert Felix die Kunst\, den Menschen ge
 nau das zu sagen\, was sie hören wollen. Mit Charme und Einfallsreichtum 
 steigt er in der Gesellschaft auf und wechselt dabei mühelos die Identit
 äten. Katharina Uhland spielt die Titelrolle in der Inszenierung von Mile
 na Mönch am Kleinen Haus des Staatstheaters Mainz. Die Aufführung dauert
  rund zwei Stunden und fünfundzwanzig Minuten mit einer Pause.
GEO:49.999468;8.271102
LAST-MODIFIED:20260417T130947Z
LOCATION:Staatstheater Mainz\, Gutenbergplatz 7\, 55116\, Mainz
STATUS:CONFIRMED
URL:https://kulvio.de/event/2343
END:VEVENT
END:VCALENDAR
