BEGIN:VCALENDAR
VERSION:2.0
PRODID:-//Kulvio Event Calendar//kulvio.de//
CALSCALE:GREGORIAN
METHOD:PUBLISH
BEGIN:VEVENT
SUMMARY:Tod eines Handlungsreisenden
DTSTART:20260627T173000Z
DTEND:20260627T200000Z
DTSTAMP:20260419T232522Z
UID:kulvio-event-2345@kulvio.de
CATEGORIES:Theater,Show
CREATED:20260417T130817Z
DESCRIPTION:Arthur Millers Klassiker Tod eines Handlungsreisenden aus dem 
 Jahr 1949 zeigt den alternden Vertreter Willy Loman\, dessen beste Zeiten 
 als Handlungsreisender vorbei sind. Er projiziert seine unerfüllten Ambit
 ionen auf seinen Sohn Biff\, der den Erwartungen nicht gerecht werden kann
 . Das Stück gilt als eine der wichtigsten amerikanischen Tragödien und h
 interfragt den Mythos vom Aufstieg durch harte Arbeit. Klaus Köhler spiel
 t die Hauptrolle in der Inszenierung von Claire O'Reilly am Kleinen Haus d
 es Staatstheaters Mainz. Die Aufführung dauert etwa zwei Stunden und drei
 ßig Minuten mit einer Pause.
GEO:49.999468;8.271102
LAST-MODIFIED:20260417T130947Z
LOCATION:Staatstheater Mainz\, Gutenbergplatz 7\, 55116\, Mainz
STATUS:CONFIRMED
URL:https://kulvio.de/event/2345
END:VEVENT
END:VCALENDAR
