BEGIN:VCALENDAR
VERSION:2.0
PRODID:-//Kulvio Event Calendar//kulvio.de//
CALSCALE:GREGORIAN
METHOD:PUBLISH
BEGIN:VEVENT
SUMMARY:Joe Di Nardo: COMEDY al dente
DTSTART:20260422T180000Z
DTEND:20260422T200000Z
DTSTAMP:20260419T233244Z
UID:kulvio-event-2348@kulvio.de
CATEGORIES:Comedy
CREATED:20260417T131115Z
DESCRIPTION:Joe Di Nardo serviert im thalhaus Wiesbaden sein Comedy-Progra
 mm COMEDY al dente. Der Comedian verbindet seine italienischen Wurzeln mit
  dem deutschen Alltag und liefert Pointen über Missverständnisse zwische
 n den Kulturen\, Familie und das Leben zwischen zwei Welten. Mit seinem sy
 mpathischen Auftreten und seinem Talent für Situationskomik begeistert er
  sein Publikum auf ganzer Linie. Das thalhaus im Nerotal bietet den gemüt
 lichen Rahmen der ältesten freien Bühne Wiesbadens für diesen Abend. De
 r Comedy-Abend beginnt um 20 Uhr\, Einlass ist ab 19 Uhr.
GEO:50.092518;8.233876
LAST-MODIFIED:20260417T131159Z
LOCATION:thalhaus\, Nerotal 18\, 65193\, Wiesbaden
STATUS:CONFIRMED
URL:https://kulvio.de/event/2348
END:VEVENT
END:VCALENDAR
