BEGIN:VCALENDAR
VERSION:2.0
PRODID:-//Kulvio Event Calendar//kulvio.de//
CALSCALE:GREGORIAN
METHOD:PUBLISH
BEGIN:VEVENT
SUMMARY:THE MAGIC MAN: Mystic Moments
DTSTART:20260423T180000Z
DTEND:20260423T200000Z
DTSTAMP:20260419T232047Z
UID:kulvio-event-2349@kulvio.de
CATEGORIES:Show
CREATED:20260417T131115Z
DESCRIPTION:THE MAGIC MAN lädt im thalhaus Wiesbaden zu einer Zaubershow 
 der besonderen Art ein. Der Magier verbindet Illusionskunst mit atmosphär
 ischer Inszenierung und entführt sein Publikum in eine Welt zwischen Stau
 nen und Unglauben. Die intime Bühne des thalhaus bringt die Zuschauer nah
  ans Geschehen heran und macht die Tricks besonders eindrucksvoll. Das tha
 lhaus im Wiesbadener Nerotal ist die älteste freie Bühne der Stadt und b
 ietet den perfekten Rahmen für magische Momente. Einlass ist ab 19 Uhr\, 
 Beginn um 20 Uhr. Karten sind im Vorverkauf und an der Abendkasse erhältl
 ich.
GEO:50.092518;8.233876
LAST-MODIFIED:20260417T131159Z
LOCATION:thalhaus\, Nerotal 18\, 65193\, Wiesbaden
STATUS:CONFIRMED
URL:https://kulvio.de/event/2349
END:VEVENT
END:VCALENDAR
