BEGIN:VCALENDAR
VERSION:2.0
PRODID:-//Kulvio Event Calendar//kulvio.de//
CALSCALE:GREGORIAN
METHOD:PUBLISH
BEGIN:VEVENT
SUMMARY:Boris Stijelja: Die Cevapcici-Therapie
DTSTART:20260424T180000Z
DTEND:20260424T200000Z
DTSTAMP:20260419T232817Z
UID:kulvio-event-2350@kulvio.de
CATEGORIES:Comedy
CREATED:20260417T131115Z
DESCRIPTION:Boris Stijelja präsentiert im thalhaus Wiesbaden sein Comedy-
 Programm Die Cevapcici-Therapie. Der Comedian verarbeitet mit viel Humor s
 eine Erfahrungen als Kind einer Gastarbeiterfamilie und die damit verbunde
 nen kulturellen Eigenheiten des Aufwachsens in Deutschland. Seine Geschich
 ten pendeln zwischen Balkan-Nostalgie und deutschem Alltag und treffen mit
 ten ins Leben. Mit seinem authentischen Erzählstil nimmt er das Publikum 
 mit auf eine komische Reise durch zwei Kulturen. Das thalhaus im Nerotal b
 ietet den idealen Rahmen für einen unterhaltsamen Comedyabend. Einlass ab
  19 Uhr\, Beginn um 20 Uhr.
GEO:50.092518;8.233876
LAST-MODIFIED:20260417T131159Z
LOCATION:thalhaus\, Nerotal 18\, 65193\, Wiesbaden
STATUS:CONFIRMED
URL:https://kulvio.de/event/2350
END:VEVENT
END:VCALENDAR
