BEGIN:VCALENDAR
VERSION:2.0
PRODID:-//Kulvio Event Calendar//kulvio.de//
CALSCALE:GREGORIAN
METHOD:PUBLISH
BEGIN:VEVENT
SUMMARY:HG. Butzko: Der will nicht nur spielen
DTSTART:20260425T180000Z
DTEND:20260425T200000Z
DTSTAMP:20260419T233432Z
UID:kulvio-event-2351@kulvio.de
CATEGORIES:Kabarett
CREATED:20260417T131115Z
DESCRIPTION:Kabarettist HG. Butzko zeigt im thalhaus Wiesbaden sein Progra
 mm Der will nicht nur spielen. Der mehrfach ausgezeichnete Künstler analy
 siert in seinem charakteristischen Stil gesellschaftliche Polarisierungen 
 und nimmt dabei weder links noch rechts Partei. Sein Kumpelkabarett verbin
 det scharfe Beobachtungen mit nahbarem Humor und bietet politische Analyse
  auf Augenhöhe. Butzko ist regelmäßig in TV-Satiresendungen zu sehen un
 d gehört zu den profiliertesten politischen Kabarettisten Deutschlands. D
 as thalhaus im Nerotal bietet den passenden Rahmen für einen Abend mit kl
 arer Haltung und viel Witz. Einlass ab 19 Uhr.
GEO:50.092518;8.233876
LAST-MODIFIED:20260417T131159Z
LOCATION:thalhaus\, Nerotal 18\, 65193\, Wiesbaden
STATUS:CONFIRMED
URL:https://kulvio.de/event/2351
END:VEVENT
END:VCALENDAR
