BEGIN:VCALENDAR
VERSION:2.0
PRODID:-//Kulvio Event Calendar//kulvio.de//
CALSCALE:GREGORIAN
METHOD:PUBLISH
BEGIN:VEVENT
SUMMARY:Jörg Knör: SIMPLY MY BEST!
DTSTART:20260430T180000Z
DTEND:20260430T200000Z
DTSTAMP:20260419T232626Z
UID:kulvio-event-2353@kulvio.de
CATEGORIES:Show
CREATED:20260417T131115Z
DESCRIPTION:Entertainer Jörg Knör gastiert mit seiner Show SIMPLY MY BES
 T! im thalhaus Wiesbaden. Seit fast 50 Jahren begeistert der Bambi-Preistr
 äger sein Publikum mit Parodien\, Gesangsimitationen und Live-Porträtzei
 chnungen auf der Bühne. Sein Programm umfasst musikalische Hommagen an Le
 genden wie Udo Jürgens\, Sammy Davis Jr. und Tom Jones und bringt dabei a
 uch frühe Raritäten aus seiner Karriere mit. Zum Finale zeichnet er ein 
 Porträt aus dem Publikum und spielt ein Saxophon-Solo. Das intime thalhau
 s bringt das Publikum nah an den vielseitigen Künstler heran. Einlass ab 
 19 Uhr.
GEO:50.092518;8.233876
LAST-MODIFIED:20260417T131159Z
LOCATION:thalhaus\, Nerotal 18\, 65193\, Wiesbaden
STATUS:CONFIRMED
URL:https://kulvio.de/event/2353
END:VEVENT
END:VCALENDAR
