BEGIN:VCALENDAR
VERSION:2.0
PRODID:-//Kulvio Event Calendar//kulvio.de//
CALSCALE:GREGORIAN
METHOD:PUBLISH
BEGIN:VEVENT
SUMMARY:Lisa Fitz: Heimleuchten
DTSTART:20260501T180000Z
DTEND:20260501T200000Z
DTSTAMP:20260419T233431Z
UID:kulvio-event-2354@kulvio.de
CATEGORIES:Kabarett
CREATED:20260417T131115Z
DESCRIPTION:Lisa Fitz präsentiert im thalhaus Wiesbaden ihr Kabarett-Prog
 ramm Heimleuchten. Die Grande Dame des politischen Kabaretts nimmt aktuell
 e gesellschaftliche und politische Themen mit spitzer Zunge und bayerische
 m Charme auseinander. Mit jahrzehntelanger Bühnenerfahrung gehört sie zu
  den bekanntesten und streitbarsten Kabarettistinnen Deutschlands und sorg
 t zuverlässig für einen Abend voller scharfzüngiger Satire. Das thalhau
 s im Nerotal bietet das gemütliche Ambiente\, in dem ihre pointierten Tex
 te besonders zur Geltung kommen. Einlass ab 19 Uhr\, Beginn um 20 Uhr. Kar
 ten sind im Vorverkauf und an der Abendkasse erhältlich.
GEO:50.092518;8.233876
LAST-MODIFIED:20260417T131159Z
LOCATION:thalhaus\, Nerotal 18\, 65193\, Wiesbaden
STATUS:CONFIRMED
URL:https://kulvio.de/event/2354
END:VEVENT
END:VCALENDAR
