BEGIN:VCALENDAR
VERSION:2.0
PRODID:-//Kulvio Event Calendar//kulvio.de//
CALSCALE:GREGORIAN
METHOD:PUBLISH
BEGIN:VEVENT
SUMMARY:Sven Hieronymus: 50 Jahre lange Haare
DTSTART:20260605T180000Z
DTEND:20260605T200000Z
DTSTAMP:20260419T233238Z
UID:kulvio-event-2356@kulvio.de
CATEGORIES:Comedy
CREATED:20260417T131115Z
DESCRIPTION:Sven Hieronymus feiert im thalhaus Wiesbaden ein persönliches
  Bühnenjubiläum mit seinem Programm 50 Jahre lange Haare. Der hessische 
 Comedian blickt auf ein halbes Jahrhundert auf der Bühne zurück und erz
 ählt Geschichten aus seiner langen Karriere als Entertainer. Sein Humor i
 st geprägt von hessischer Mundart und Alltagsbeobachtungen\, die das Publ
 ikum zum Lachen bringen. Als einer der bekanntesten hessischen Comedians v
 erbindet er regionale Identität mit universeller Komik. Das thalhaus im N
 erotal bietet den passenden Rahmen für diesen besonderen Comedy-Abend. Ei
 nlass ab 19 Uhr.
GEO:50.092518;8.233876
LAST-MODIFIED:20260417T131159Z
LOCATION:thalhaus\, Nerotal 18\, 65193\, Wiesbaden
STATUS:CONFIRMED
URL:https://kulvio.de/event/2356
END:VEVENT
END:VCALENDAR
