BEGIN:VCALENDAR
VERSION:2.0
PRODID:-//Kulvio Event Calendar//kulvio.de//
CALSCALE:GREGORIAN
METHOD:PUBLISH
BEGIN:VEVENT
SUMMARY:Helene Bockhorst: LEBEFRAU
DTSTART:20260606T180000Z
DTEND:20260606T200000Z
DTSTAMP:20260419T235654Z
UID:kulvio-event-2357@kulvio.de
CATEGORIES:Comedy
CREATED:20260417T131115Z
DESCRIPTION:Helene Bockhorst bringt ihr Programm LEBEFRAU ins thalhaus Wie
 sbaden. Die Comedienne verbindet in ihrem Stil Comedy mit tragischen Momen
 ten und schafft so einen Abend zwischen Lachen und Nachdenklichkeit. Bockh
 orst spricht offen über Beziehungen\, Selbstzweifel und das Frausein in d
 er heutigen Gesellschaft und trifft damit den Nerv ihrer Generation. Ihr P
 rogramm im thalhaus verspricht einen ehrlichen und witzigen Abend auf der 
 ältesten freien Bühne Wiesbadens\, die im idyllischen Nerotal liegt. Ein
 lass ab 19 Uhr\, Beginn um 20 Uhr. Karten gibt es im Vorverkauf und an der
  Abendkasse.
GEO:50.092518;8.233876
LAST-MODIFIED:20260417T131159Z
LOCATION:thalhaus\, Nerotal 18\, 65193\, Wiesbaden
STATUS:CONFIRMED
URL:https://kulvio.de/event/2357
END:VEVENT
END:VCALENDAR
