BEGIN:VCALENDAR
VERSION:2.0
PRODID:-//Kulvio Event Calendar//kulvio.de//
CALSCALE:GREGORIAN
METHOD:PUBLISH
BEGIN:VEVENT
SUMMARY:Ein Abend mit Angelika Milster
DTSTART:20260904T180000Z
DTEND:20260904T200000Z
DTSTAMP:20260419T233244Z
UID:kulvio-event-2359@kulvio.de
CATEGORIES:Musical,Konzert
CREATED:20260417T131115Z
DESCRIPTION:Angelika Milster lädt im thalhaus Wiesbaden zu einer Reise du
 rch die Welt der Musicals und Erinnerungen ein. Die Sängerin\, die als Gr
 izabella in der deutschen Erstaufführung von Cats berühmt wurde\, interp
 retiert die bekanntesten Melodien aus Musicals wie Sunset Boulevard\, Caba
 ret und La Cage. Begleitet von ihrem Pianisten verbindet sie Gesang mit pe
 rsönlichen Geschichten aus ihrem bewegten Bühnenleben und lässt das Pub
 likum an ihren Erinnerungen teilhaben. Das intime Ambiente des thalhaus im
  Nerotal macht den Abend zu einem besonderen Erlebnis. Einlass ab 19 Uhr.
GEO:50.092518;8.233876
LAST-MODIFIED:20260417T131159Z
LOCATION:thalhaus\, Nerotal 18\, 65193\, Wiesbaden
STATUS:CONFIRMED
URL:https://kulvio.de/event/2359
END:VEVENT
END:VCALENDAR
