BEGIN:VCALENDAR
VERSION:2.0
PRODID:-//Kulvio Event Calendar//kulvio.de//
CALSCALE:GREGORIAN
METHOD:PUBLISH
BEGIN:VEVENT
SUMMARY:Stephan Bauer: Am Ende der Nerven und noch so viel Ehe übrig
DTSTART:20260910T180000Z
DTEND:20260910T200000Z
DTSTAMP:20260419T233427Z
UID:kulvio-event-2362@kulvio.de
CATEGORIES:Kabarett
CREATED:20260417T131115Z
DESCRIPTION:Stephan Bauer kommt mit seinem Kabarett-Programm Am Ende der N
 erven und noch so viel Ehe übrig ins thalhaus Wiesbaden. Der Kabarettist 
 nimmt die Höhen und Tiefen des Ehelebens humorvoll auseinander und erzäh
 lt dabei von den alltäglichen Herausforderungen des Zusammenlebens. Seine
  Geschichten aus dem Beziehungsalltag treffen den Nerv aller\, die das Abe
 nteuer Partnerschaft kennen. Das Programm bietet beste Unterhaltung für P
 aare und alle\, die es werden oder bleiben wollen. Das thalhaus im Nerotal
  bietet dafür die passende intime Atmosphäre. Einlass ab 19 Uhr.
GEO:50.092518;8.233876
LAST-MODIFIED:20260417T131159Z
LOCATION:thalhaus\, Nerotal 18\, 65193\, Wiesbaden
STATUS:CONFIRMED
URL:https://kulvio.de/event/2362
END:VEVENT
END:VCALENDAR
