BEGIN:VCALENDAR
VERSION:2.0
PRODID:-//Kulvio Event Calendar//kulvio.de//
CALSCALE:GREGORIAN
METHOD:PUBLISH
BEGIN:VEVENT
SUMMARY:Helge Thun: Zickzack zum Zenit
DTSTART:20260912T180000Z
DTEND:20260912T200000Z
DTSTAMP:20260419T232208Z
UID:kulvio-event-2364@kulvio.de
CATEGORIES:Comedy,Show
CREATED:20260417T131115Z
DESCRIPTION:Helge Thun bringt seine Mischung aus Comedy\, Tricks und Zaube
 rei mit dem Programm Zickzack zum Zenit ins thalhaus Wiesbaden. Der Künst
 ler verbindet Stand-up-Comedy mit verblüffenden Kunststücken und schafft
  so eine Show\, die zwischen Lachen und Staunen pendelt. Sein Programm üb
 errascht mit unerwarteten Wendungen und einer gehörigen Portion Witz und 
 Fingerfertigkeit\, die das Publikum immer wieder in Erstaunen versetzt. Di
 e intime Atmosphäre des thalhaus im Nerotal bringt die Zuschauer nah ans 
 Geschehen heran. Einlass ab 19 Uhr\, Beginn um 20 Uhr.
GEO:50.092518;8.233876
LAST-MODIFIED:20260417T131159Z
LOCATION:thalhaus\, Nerotal 18\, 65193\, Wiesbaden
STATUS:CONFIRMED
URL:https://kulvio.de/event/2364
END:VEVENT
END:VCALENDAR
