BEGIN:VCALENDAR
VERSION:2.0
PRODID:-//Kulvio Event Calendar//kulvio.de//
CALSCALE:GREGORIAN
METHOD:PUBLISH
BEGIN:VEVENT
SUMMARY:Vernissage: Bernd Zeißler - Anwesenheit des Unsichtbaren
DTSTART:20260913T150000Z
DTEND:20260913T180000Z
DTSTAMP:20260419T232550Z
UID:kulvio-event-2365@kulvio.de
CATEGORIES:Ausstellung,Galerie
CREATED:20260417T131115Z
DESCRIPTION:Das thalhaus Wiesbaden eröffnet eine Ausstellung des Malers B
 ernd Zeißler unter dem Titel Anwesenheit des Unsichtbaren. Zeißlers Arbe
 itsweise ist prozessorientiert und von Intuition geleitet\, wobei sich sei
 ne Kompositionen organisch zu Landschaften\, Figuren oder abstrakten Forme
 n entwickeln. Der 1953 in Wassertrüdingen geborene Künstler integriert C
 ollageteile wie Handschriften und Plakatfragmente in seine Werke und ist M
 itglied mehrerer deutscher Künstlerverbände. Die Vernissage beginnt um 1
 7 Uhr mit einer Einführung durch Prof. Dr. Johannes Kirschenmann. Der Ein
 tritt zur Ausstellungseröffnung im thalhaus im Nerotal ist frei.
GEO:50.092518;8.233876
LAST-MODIFIED:20260417T131159Z
LOCATION:thalhaus\, Nerotal 18\, 65193\, Wiesbaden
STATUS:CONFIRMED
URL:https://kulvio.de/event/2365
END:VEVENT
END:VCALENDAR
