BEGIN:VCALENDAR
VERSION:2.0
PRODID:-//Kulvio Event Calendar//kulvio.de//
CALSCALE:GREGORIAN
METHOD:PUBLISH
BEGIN:VEVENT
SUMMARY:Wiesbadener Comedy Club im thalhaus
DTSTART:20261003T180000Z
DTEND:20261003T200000Z
DTSTAMP:20260419T233433Z
UID:kulvio-event-2366@kulvio.de
CATEGORIES:Comedy
CREATED:20260417T131115Z
DESCRIPTION:Der Wiesbadener Comedy Club lädt im thalhaus zu einer abwechs
 lungsreichen Mix-Show mit wechselnden Comedians ein. Moderiert von Freddy 
 Farzadi treten sowohl etablierte Komiker als auch aufstrebende Talente auf
  die Bühne und sorgen für einen bunten Abend voller Lacher. Jede Show bi
 etet ein anderes Line-up und damit ein komplett neues Programm. Das Format
  gibt Nachwuchskünstlern die Chance\, sich vor Publikum zu beweisen\, wä
 hrend die Zuschauer von der Vielfalt profitieren. Die Comedy-Nacht findet 
 regelmäßig im thalhaus im Wiesbadener Nerotal statt. Einlass ab 19 Uhr.
GEO:50.092518;8.233876
LAST-MODIFIED:20260417T131159Z
LOCATION:thalhaus\, Nerotal 18\, 65193\, Wiesbaden
STATUS:CONFIRMED
URL:https://kulvio.de/event/2366
END:VEVENT
END:VCALENDAR
