BEGIN:VCALENDAR
VERSION:2.0
PRODID:-//Kulvio Event Calendar//kulvio.de//
CALSCALE:GREGORIAN
METHOD:PUBLISH
BEGIN:VEVENT
SUMMARY:Stefan Waghubinger: Versunkene Sätze
DTSTART:20261023T180000Z
DTEND:20261023T200000Z
DTSTAMP:20260419T233123Z
UID:kulvio-event-2368@kulvio.de
CATEGORIES:Kabarett
CREATED:20260417T131115Z
DESCRIPTION:Stefan Waghubinger präsentiert im thalhaus Wiesbaden sein Kab
 arett-Programm Versunkene Sätze. Der österreichische Kabarettist ist bek
 annt für seinen melancholisch-philosophischen Humor und seine bedächtige
 n Beobachtungen über das Leben und seine Absurditäten. Waghubinger nimmt
  sich die Zeit\, Gedanken zu Ende zu denken\, die andere nur beginnen\, un
 d lässt dabei Raum für stille Komik. Sein hintergründiger Stil hebt sic
 h von der lauten Comedyszene angenehm ab und bietet einen nachdenklichen A
 bend voller leiser Pointen. Das thalhaus im Nerotal ist der passende Ort d
 afür. Einlass ab 19 Uhr.
GEO:50.092518;8.233876
LAST-MODIFIED:20260417T131159Z
LOCATION:thalhaus\, Nerotal 18\, 65193\, Wiesbaden
STATUS:CONFIRMED
URL:https://kulvio.de/event/2368
END:VEVENT
END:VCALENDAR
