BEGIN:VCALENDAR
VERSION:2.0
PRODID:-//Kulvio Event Calendar//kulvio.de//
CALSCALE:GREGORIAN
METHOD:PUBLISH
BEGIN:VEVENT
SUMMARY:Korff-Ludewig: Zwischen Geisterbahn und Zuckerwatte
DTSTART:20261024T180000Z
DTEND:20261024T200000Z
DTSTAMP:20260419T232545Z
UID:kulvio-event-2369@kulvio.de
CATEGORIES:Kabarett
CREATED:20260417T131115Z
DESCRIPTION:Korff-Ludewig bringen ihr Pop-Kabarett-Programm Zwischen Geist
 erbahn und Zuckerwatte ins thalhaus Wiesbaden. Das Duo verbindet musikalis
 che Einlagen mit kabarettistischen Texten und bewegt sich dabei zwischen J
 ahrmarkts-Nostalgie und gesellschaftlicher Bestandsaufnahme. Ihre Lieder u
 nd Sketche nehmen das Publikum mit auf eine Reise durch die Absurditäten 
 des Alltags und sorgen dabei für gute Stimmung im Saal. Die Mischung aus 
 Musik und Satire macht den Abend zu einem abwechslungsreichen Erlebnis fü
 r alle\, die gerne lachen und mitsingen. Das thalhaus im Nerotal bietet de
 n passenden intimen Rahmen. Einlass ab 19 Uhr.
GEO:50.092518;8.233876
LAST-MODIFIED:20260417T131159Z
LOCATION:thalhaus\, Nerotal 18\, 65193\, Wiesbaden
STATUS:CONFIRMED
URL:https://kulvio.de/event/2369
END:VEVENT
END:VCALENDAR
