BEGIN:VCALENDAR
VERSION:2.0
PRODID:-//Kulvio Event Calendar//kulvio.de//
CALSCALE:GREGORIAN
METHOD:PUBLISH
BEGIN:VEVENT
SUMMARY:Lukas Wandke: LACHEN
DTSTART:20261028T190000Z
DTEND:20261028T210000Z
DTSTAMP:20260419T233245Z
UID:kulvio-event-2370@kulvio.de
CATEGORIES:Comedy
CREATED:20260417T131115Z
DESCRIPTION:Lukas Wandke steht mit seinem Programm LACHEN auf der Bühne d
 es thalhaus Wiesbaden. Der junge Comedian liefert energiegeladene Stand-up
 -Comedy und bringt sein Publikum mit schnellen Pointen und einem direkten\
 , unverkrampften Stil zum Lachen. Seine Themen reichen von alltäglichen B
 eobachtungen bis zu den großen Fragen des Lebens\, verpackt in frischen H
 umor ohne Berührungsängste. Das thalhaus Wiesbaden ist die älteste frei
 e Bühne der Stadt und liegt im idyllischen Nerotal\, wo der Abend seinen 
 passenden Rahmen findet. Einlass ab 19 Uhr\, Beginn um 20 Uhr.
GEO:50.092518;8.233876
LAST-MODIFIED:20260417T131159Z
LOCATION:thalhaus\, Nerotal 18\, 65193\, Wiesbaden
STATUS:CONFIRMED
URL:https://kulvio.de/event/2370
END:VEVENT
END:VCALENDAR
