BEGIN:VCALENDAR
VERSION:2.0
PRODID:-//Kulvio Event Calendar//kulvio.de//
CALSCALE:GREGORIAN
METHOD:PUBLISH
BEGIN:VEVENT
SUMMARY:Lilo Wanders: Waren Sie nicht mal Lilo Wanders?
DTSTART:20261029T190000Z
DTEND:20261029T210000Z
DTSTAMP:20260419T232208Z
UID:kulvio-event-2371@kulvio.de
CATEGORIES:Show,Comedy
CREATED:20260417T131115Z
DESCRIPTION:Lilo Wanders gastiert im thalhaus Wiesbaden mit ihrem Programm
  Waren Sie nicht mal Lilo Wanders? und nimmt das Publikum mit auf eine unt
 erhaltsame Zeitreise durch ihr Leben und ihre Karriere. Die legendäre Ent
 ertainerin blickt auf ihre langjährige Bühnenlaufbahn zurück und erzäh
 lt persönliche Geschichten mit ihrer unverwechselbaren Art. Bekannt wurde
  Lilo Wanders durch ihre freche Präsenz und Fernsehauftritte\, die Genera
 tionen begeistert haben. Im intimen Rahmen des thalhaus im Nerotal verspri
 cht der Abend persönliche Anekdoten und jede Menge Humor. Einlass ab 19 U
 hr.
GEO:50.092518;8.233876
LAST-MODIFIED:20260417T131159Z
LOCATION:thalhaus\, Nerotal 18\, 65193\, Wiesbaden
STATUS:CONFIRMED
URL:https://kulvio.de/event/2371
END:VEVENT
END:VCALENDAR
