BEGIN:VCALENDAR
VERSION:2.0
PRODID:-//Kulvio Event Calendar//kulvio.de//
CALSCALE:GREGORIAN
METHOD:PUBLISH
BEGIN:VEVENT
SUMMARY:Anka Zink: K.O. Komplimente
DTSTART:20261030T190000Z
DTEND:20261030T210000Z
DTSTAMP:20260419T232550Z
UID:kulvio-event-2372@kulvio.de
CATEGORIES:Kabarett
CREATED:20260417T131115Z
DESCRIPTION:Anka Zink präsentiert ihr Kabarett-Programm K.O. Komplimente 
 im thalhaus Wiesbaden und nimmt gesellschaftliche Konventionen und die Kun
 st der zwischenmenschlichen Kommunikation mit satirischem Blick aufs Korn.
  Ihr scharfzüngiger Humor trifft den Nerv aktueller Debatten rund um Höf
 lichkeit\, politische Korrektheit und den Umgang miteinander in einer sich
  wandelnden Gesellschaft. Die Kabarettistin liefert einen pointierten Aben
 d voller treffender Beobachtungen und intelligenter Satire\, die zum Nachd
 enken und Lachen anregt. Das thalhaus im Nerotal bietet mit seiner Kleinku
 nst-Atmosphäre den idealen Rahmen dafür. Einlass ab 19 Uhr\, Beginn um 2
 0 Uhr.
GEO:50.092518;8.233876
LAST-MODIFIED:20260417T131159Z
LOCATION:thalhaus\, Nerotal 18\, 65193\, Wiesbaden
STATUS:CONFIRMED
URL:https://kulvio.de/event/2372
END:VEVENT
END:VCALENDAR
