BEGIN:VCALENDAR
VERSION:2.0
PRODID:-//Kulvio Event Calendar//kulvio.de//
CALSCALE:GREGORIAN
METHOD:PUBLISH
BEGIN:VEVENT
SUMMARY:Peter Vollmer: Frauen verblühen\, Männer verduften
DTSTART:20261031T190000Z
DTEND:20261031T210000Z
DTSTAMP:20260419T232530Z
UID:kulvio-event-2373@kulvio.de
CATEGORIES:Kabarett,Comedy
CREATED:20260417T131115Z
DESCRIPTION:Peter Vollmer bringt sein Kabarett-Comedy-Programm Frauen verb
 lühen\, Männer verduften ins thalhaus Wiesbaden. Der Kabarettist nimmt d
 ie Unterschiede zwischen den Geschlechtern und die Herausforderungen des 
 Älterwerdens humorvoll unter die Lupe. Seine treffenden Beobachtungen spr
 echen alle an\, die sich im Beziehungs- und Alltagschaos wiedererkennen un
 d darüber herzlich lachen wollen. Das Programm verbindet Kabarett mit Com
 edy und bietet einen unterhaltsamen Abend für Paare und Singles gleicherm
 aßen. Das thalhaus im Wiesbadener Nerotal ist die perfekte Kulisse für d
 iesen Abend. Einlass ab 19 Uhr\, Beginn um 20 Uhr.
GEO:50.092518;8.233876
LAST-MODIFIED:20260417T131159Z
LOCATION:thalhaus\, Nerotal 18\, 65193\, Wiesbaden
STATUS:CONFIRMED
URL:https://kulvio.de/event/2373
END:VEVENT
END:VCALENDAR
