BEGIN:VCALENDAR
VERSION:2.0
PRODID:-//Kulvio Event Calendar//kulvio.de//
CALSCALE:GREGORIAN
METHOD:PUBLISH
BEGIN:VEVENT
SUMMARY:thalhaus Jazz Session
DTSTART:20261104T190000Z
DTEND:20261104T210000Z
DTSTAMP:20260419T232629Z
UID:kulvio-event-2374@kulvio.de
CATEGORIES:Konzert
CREATED:20260417T131115Z
DESCRIPTION:Die thalhaus Jazz Session bringt jeden Monat lokale und region
 ale Jazzmusiker auf die Bühne des thalhaus Wiesbaden im Nerotal. Das Sess
 ion-Trio bildet die musikalische Basis\, begleitet von wechselnden Gastmus
 ikern\, die spontan mitspielen und für Abwechslung sorgen. Aus Jazzstanda
 rds und freier Improvisation entsteht jedes Mal ein anderes Konzert\, das 
 man so kein zweites Mal hören wird. Auch Musiker aus dem Publikum sind he
 rzlich eingeladen\, sich mit ihrem Instrument auf die Bühne zu wagen und 
 mitzuspielen. Der Eintritt ist frei\, eine Reservierung ist nicht nötig.
GEO:50.092518;8.233876
LAST-MODIFIED:20260417T131159Z
LOCATION:thalhaus\, Nerotal 18\, 65193\, Wiesbaden
STATUS:CONFIRMED
URL:https://kulvio.de/event/2374
END:VEVENT
END:VCALENDAR
