BEGIN:VCALENDAR
VERSION:2.0
PRODID:-//Kulvio Event Calendar//kulvio.de//
CALSCALE:GREGORIAN
METHOD:PUBLISH
BEGIN:VEVENT
SUMMARY:Jannis Klemm: kopfkino
DTSTART:20261105T190000Z
DTEND:20261105T210000Z
DTSTAMP:20260419T233135Z
UID:kulvio-event-2375@kulvio.de
CATEGORIES:Show
CREATED:20260417T131115Z
DESCRIPTION:Mentalist Jannis Klemm präsentiert im thalhaus Wiesbaden sein
 e Show kopfkino und nimmt das Publikum mit in die Welt der mentalen Täusc
 hungskunst. Der Künstler verbindet Mentalmagie mit psychologischen Experi
 menten und versetzt sein Publikum in Erstaunen\, indem er scheinbar Gedank
 en lesen und Entscheidungen vorhersagen kann. Seine Show lebt von der dire
 kten Interaktion mit den Zuschauern im Saal und überrascht mit verblüffe
 nden Momenten\, die zum Nachdenken anregen. Die intime Atmosphäre des tha
 lhaus im Nerotal macht das Erlebnis besonders eindrucksvoll und nahbar. Ei
 nlass ab 19 Uhr\, Beginn um 20 Uhr.
GEO:50.092518;8.233876
LAST-MODIFIED:20260417T131159Z
LOCATION:thalhaus\, Nerotal 18\, 65193\, Wiesbaden
STATUS:CONFIRMED
URL:https://kulvio.de/event/2375
END:VEVENT
END:VCALENDAR
