BEGIN:VCALENDAR
VERSION:2.0
PRODID:-//Kulvio Event Calendar//kulvio.de//
CALSCALE:GREGORIAN
METHOD:PUBLISH
BEGIN:VEVENT
SUMMARY:Stefan Eichner spielt Reinhard Mey 1.0
DTSTART:20261106T190000Z
DTEND:20261106T210000Z
DTSTAMP:20260419T232523Z
UID:kulvio-event-2376@kulvio.de
CATEGORIES:Konzert
CREATED:20260417T131115Z
DESCRIPTION:Stefan Eichner widmet im thalhaus Wiesbaden einen Abend dem Li
 edermacher Reinhard Mey und interpretiert dessen bekannteste Lieder auf de
 r Kleinkunstbühne im Nerotal. Das Programm Reinhard Mey 1.0 ist eine Homm
 age an einen der erfolgreichsten deutschsprachigen Liedermacher\, dessen z
 eitlose Texte und Melodien Generationen begleitet haben. Im gemütlichen A
 mbiente des thalhaus kommen die Songs besonders zur Geltung und laden zum 
 Mitsingen\, Erinnern und Genießen ein. Ein Abend für alle Fans deutschsp
 rachiger Liedermacherkunst in intimer Atmosphäre auf der ältesten freien
  Bühne Wiesbadens. Einlass ab 19 Uhr\, Beginn um 20 Uhr.
GEO:50.092518;8.233876
LAST-MODIFIED:20260417T131159Z
LOCATION:thalhaus\, Nerotal 18\, 65193\, Wiesbaden
STATUS:CONFIRMED
URL:https://kulvio.de/event/2376
END:VEVENT
END:VCALENDAR
