BEGIN:VCALENDAR
VERSION:2.0
PRODID:-//Kulvio Event Calendar//kulvio.de//
CALSCALE:GREGORIAN
METHOD:PUBLISH
BEGIN:VEVENT
SUMMARY:Robert Griess: Natürliche Intelligenz - letzter Versuch!
DTSTART:20261107T190000Z
DTEND:20261107T210000Z
DTSTAMP:20260419T232629Z
UID:kulvio-event-2377@kulvio.de
CATEGORIES:Kabarett
CREATED:20260417T131115Z
DESCRIPTION:Kabarettist Robert Griess zeigt im thalhaus Wiesbaden sein Pro
 gramm und setzt sich satirisch mit dem Spannungsfeld zwischen menschlicher
  Vernunft und dem Hype um Künstliche Intelligenz auseinander. Sein Kabare
 tt verbindet politische Analyse mit pointiertem Humor und fragt\, was von 
 der natürlichen Intelligenz im digitalen Zeitalter noch übrig bleibt. Gr
 iess liefert scharfsinnige Beobachtungen über den Zustand unserer Gesells
 chaft im Zeitalter der Algorithmen und bringt das Publikum zum Lachen und 
 Nachdenken. Das thalhaus im Nerotal bietet den passenden Rahmen für einen
  nachdenklich-komischen Abend. Einlass ab 19 Uhr.
GEO:50.092518;8.233876
LAST-MODIFIED:20260417T131159Z
LOCATION:thalhaus\, Nerotal 18\, 65193\, Wiesbaden
STATUS:CONFIRMED
URL:https://kulvio.de/event/2377
END:VEVENT
END:VCALENDAR
