BEGIN:VCALENDAR
VERSION:2.0
PRODID:-//Kulvio Event Calendar//kulvio.de//
CALSCALE:GREGORIAN
METHOD:PUBLISH
BEGIN:VEVENT
SUMMARY:Alexander Merk: Wie ich nicht Zauberer wurde
DTSTART:20261113T190000Z
DTEND:20261113T210000Z
DTSTAMP:20260419T233239Z
UID:kulvio-event-2378@kulvio.de
CATEGORIES:Show
CREATED:20260417T131115Z
DESCRIPTION:Zauberkünstler Alexander Merk erzählt im thalhaus Wiesbaden 
 von seinem Weg zur Magie und der Frage\, wie man eigentlich Zauberer wird.
  Die Show Wie ich nicht Zauberer wurde verbindet autobiografische Geschich
 ten mit verblüffenden Kunststücken und nimmt das Publikum mit auf eine p
 ersönliche Reise durch die Welt der Illusion und Täuschung. Merk hinterf
 ragt dabei augenzwinkernd seinen eigenen Werdegang und die Faszination\, d
 ie die Zauberei auf Menschen ausübt. Im intimen Rahmen des thalhaus im Ne
 rotal wird die Nähe zum Künstler zum Teil des Erlebnisses. Einlass ab 19
  Uhr.
GEO:50.092518;8.233876
LAST-MODIFIED:20260417T131159Z
LOCATION:thalhaus\, Nerotal 18\, 65193\, Wiesbaden
STATUS:CONFIRMED
URL:https://kulvio.de/event/2378
END:VEVENT
END:VCALENDAR
