BEGIN:VCALENDAR
VERSION:2.0
PRODID:-//Kulvio Event Calendar//kulvio.de//
CALSCALE:GREGORIAN
METHOD:PUBLISH
BEGIN:VEVENT
SUMMARY:KABBARATZ: Zähne wie Sterne\, nachts kommen sie raus
DTSTART:20261114T190000Z
DTEND:20261114T210000Z
DTSTAMP:20260419T232550Z
UID:kulvio-event-2379@kulvio.de
CATEGORIES:Kabarett
CREATED:20260417T131115Z
DESCRIPTION:Das Musikkabarett-Duo KABBARATZ spielt im thalhaus Wiesbaden s
 ein Programm Zähne wie Sterne\, nachts kommen sie raus. Die beiden Künst
 ler verbinden Musik mit kabarettistischen Texten und einem ordentlichen Sc
 huss schwarzem Humor\, der kein Thema unberührt lässt. Ihre Songs und Sk
 etche nehmen den Alltag auf die Schippe und sorgen für einen abwechslungs
 reichen und musikalischen Abend voller Lacher und Melodien. Das Programm b
 ietet eine Mischung aus Livemusik und satirischer Unterhaltung im Ambiente
  der ältesten freien Bühne Wiesbadens im Nerotal. Einlass ab 19 Uhr.
GEO:50.092518;8.233876
LAST-MODIFIED:20260417T131159Z
LOCATION:thalhaus\, Nerotal 18\, 65193\, Wiesbaden
STATUS:CONFIRMED
URL:https://kulvio.de/event/2379
END:VEVENT
END:VCALENDAR
