BEGIN:VCALENDAR
VERSION:2.0
PRODID:-//Kulvio Event Calendar//kulvio.de//
CALSCALE:GREGORIAN
METHOD:PUBLISH
BEGIN:VEVENT
SUMMARY:Johnny and The Jonettes
DTSTART:20261212T190000Z
DTEND:20261212T210000Z
DTSTAMP:20260419T233435Z
UID:kulvio-event-2381@kulvio.de
CATEGORIES:Konzert
CREATED:20260417T131115Z
DESCRIPTION:Johnny and The Jonettes spielen im thalhaus Wiesbaden ein Konz
 ert voller Energie und guter Laune. Die Band ist bekannt für ihre mitrei
 ßenden Live-Auftritte\, die Musikstile von Rock n Roll über Soul bis Pop
  in ein schwungvolles Bühnenprogramm verwandeln. Seit Jahren begeistern s
 ie ihr Publikum mit einer Mischung aus Klassikern und eigenen Arrangements
 \, die zum Tanzen einladen. Das thalhaus im Wiesbadener Nerotal bietet mit
  seiner Kleinkunstatmosphäre den idealen Rahmen für einen stimmungsvolle
 n Konzertabend in der Vorweihnachtszeit. Einlass ab 19 Uhr\, Beginn um 20 
 Uhr.
GEO:50.092518;8.233876
LAST-MODIFIED:20260417T131159Z
LOCATION:thalhaus\, Nerotal 18\, 65193\, Wiesbaden
STATUS:CONFIRMED
URL:https://kulvio.de/event/2381
END:VEVENT
END:VCALENDAR
