BEGIN:VCALENDAR
VERSION:2.0
PRODID:-//Kulvio Event Calendar//kulvio.de//
CALSCALE:GREGORIAN
METHOD:PUBLISH
BEGIN:VEVENT
SUMMARY:Maddin Schneider: Schöne Sonndaach
DTSTART:20261213T170000Z
DTEND:20261213T193000Z
DTSTAMP:20260419T232631Z
UID:kulvio-event-2382@kulvio.de
CATEGORIES:Comedy
CREATED:20260417T131115Z
DESCRIPTION:Der hessische Comedian Maddin Schneider präsentiert im thalha
 us Wiesbaden sein Programm Schöne Sonndaach. Schneider gehört zu den bek
 anntesten Comedy-Größen Hessens und begeistert seit Jahrzehnten mit sein
 em Humor und hessischer Mundart\, die längst zu seinem Markenzeichen gewo
 rden ist. Sein Programm verbindet Alltagsgeschichten mit typisch hessische
 m Witz und bringt das Publikum zuverlässig zum Lachen. Die Vorstellung im
  thalhaus beginnt bereits um 18 Uhr und bietet beste Sonntagsunterhaltung 
 für die ganze Familie. Einlass ab 17 Uhr im thalhaus im Wiesbadener Nerot
 al. Karten gibt es im Vorverkauf und an der Abendkasse.
GEO:50.092518;8.233876
LAST-MODIFIED:20260417T131159Z
LOCATION:thalhaus\, Nerotal 18\, 65193\, Wiesbaden
STATUS:CONFIRMED
URL:https://kulvio.de/event/2382
END:VEVENT
END:VCALENDAR
