BEGIN:VCALENDAR
VERSION:2.0
PRODID:-//Kulvio Event Calendar//kulvio.de//
CALSCALE:GREGORIAN
METHOD:PUBLISH
BEGIN:VEVENT
SUMMARY:Ladies NYGHT: 3 Sterne für Santa
DTSTART:20261218T190000Z
DTEND:20261218T210000Z
DTSTAMP:20260419T232629Z
UID:kulvio-event-2386@kulvio.de
CATEGORIES:Show,Konzert
CREATED:20260417T131115Z
DESCRIPTION:Die Show Ladies NYGHT feiert mit ihrem Weihnachtsprogramm 3 St
 erne für Santa ihr 30-jähriges Bestehen im thalhaus Wiesbaden. Drei Sän
 gerinnen\, die zu den besten Stimmen der Rhein-Main-Region zählen\, präs
 entieren mit ihrer Live-Band ein Programm aus Jazz\, Soul\, Folk\, Pop und
  Swing in weihnachtlichem Gewand. Die Revue verbindet Musik mit Choreograf
 ien\, Kostümen und Comedy-Einlagen und verwandelt den Dezember-Stress in 
 vorweihnachtliche Festtagsstimmung. Das thalhaus im Nerotal ist der passen
 de Ort für diesen besonderen musikalischen Abend. Einlass ab 19 Uhr\, Beg
 inn um 20 Uhr.
GEO:50.092518;8.233876
LAST-MODIFIED:20260417T131159Z
LOCATION:thalhaus\, Nerotal 18\, 65193\, Wiesbaden
STATUS:CONFIRMED
URL:https://kulvio.de/event/2386
END:VEVENT
END:VCALENDAR
