BEGIN:VCALENDAR
VERSION:2.0
PRODID:-//Kulvio Event Calendar//kulvio.de//
CALSCALE:GREGORIAN
METHOD:PUBLISH
BEGIN:VEVENT
SUMMARY:Pe Werner: Ne Prise Zimt
DTSTART:20261219T190000Z
DTEND:20261219T210000Z
DTSTAMP:20260419T232543Z
UID:kulvio-event-2387@kulvio.de
CATEGORIES:Konzert
CREATED:20260417T131115Z
DESCRIPTION:Sängerin und Liedermacherin Pe Werner gibt im thalhaus Wiesba
 den ihr Weihnachtskonzert Ne Prise Zimt. Die Künstlerin\, bekannt durch H
 its wie Kribbeln im Bauch\, präsentiert ein vorweihnachtliches Programm m
 it eigenen Songs und winterlichen Melodien\, die auf die Feiertage einstim
 men. Ihr Auftritt im thalhaus verbindet musikalische Qualität mit der gem
 ütlichen Atmosphäre der Adventszeit im Wiesbadener Nerotal. Das Konzert 
 findet am letzten Samstag vor Weihnachten statt und bietet den perfekten m
 usikalischen Rahmen für einen festlichen Abend. Einlass ab 19 Uhr\, Begin
 n um 20 Uhr.
GEO:50.092518;8.233876
LAST-MODIFIED:20260417T131159Z
LOCATION:thalhaus\, Nerotal 18\, 65193\, Wiesbaden
STATUS:CONFIRMED
URL:https://kulvio.de/event/2387
END:VEVENT
END:VCALENDAR
