BEGIN:VCALENDAR
VERSION:2.0
PRODID:-//Kulvio Event Calendar//kulvio.de//
CALSCALE:GREGORIAN
METHOD:PUBLISH
BEGIN:VEVENT
SUMMARY:Für Garderobe keine Haftung: Weihnachtsspecial
DTSTART:20261220T170000Z
DTEND:20261220T190000Z
DTSTAMP:20260419T233415Z
UID:kulvio-event-2388@kulvio.de
CATEGORIES:Comedy,Theater
CREATED:20260417T131115Z
DESCRIPTION:Die Impro-Truppe Für Garderobe keine Haftung spielt im thalha
 us Wiesbaden ein Weihnachtsspecial. Das Ensemble improvisiert spontane Sze
 nen rund um die Weihnachtszeit nach Vorgaben aus dem Publikum\, wobei gesc
 hauspielert\, gesungen\, getanzt und gereimt wird. Jede Vorstellung ist an
 ders und lebt von der Kreativität der Darsteller und der Fantasie der Zus
 chauer im Saal. Das Weihnachtsspecial bringt festliche Stimmung und jede M
 enge Lacher in die älteste freie Bühne Wiesbadens im Nerotal. Einlass ei
 ne Stunde vor Showbeginn. Karten gibt es im Vorverkauf und an der Abendkas
 se.
GEO:50.092518;8.233876
LAST-MODIFIED:20260417T131159Z
LOCATION:thalhaus\, Nerotal 18\, 65193\, Wiesbaden
STATUS:CONFIRMED
URL:https://kulvio.de/event/2388
END:VEVENT
END:VCALENDAR
