BEGIN:VCALENDAR
VERSION:2.0
PRODID:-//Kulvio Event Calendar//kulvio.de//
CALSCALE:GREGORIAN
METHOD:PUBLISH
BEGIN:VEVENT
SUMMARY:Galakonzert der Meisterklasse Lev Natochenny
DTSTART:20260419T160000Z
DTEND:20260419T170000Z
DTSTAMP:20260419T233113Z
UID:kulvio-event-2390@kulvio.de
CATEGORIES:Konzert
CREATED:20260418T193251Z
DESCRIPTION:Junge internationale Pianistinnen und Pianisten präsentieren 
 ein Programm auf höchstem Niveau unter der Leitung von Prof. Dr. Lev Nato
 chenny. Die Studierenden und ehemaligen Schüler des renommierten Klavierp
 ädagogen zeigen ihr Können im Kulturzentrum Englische Kirche in Bad Homb
 urg. Der Abend verspricht faszinierende Interpretationen aus dem klassisch
 en Klavierrepertoire. Ermäßigte Karten sind für Schüler\, Studierende 
 und Schwerbehinderte verfügbar.
GEO:50.225276;8.622582
LAST-MODIFIED:20260418T193515Z
LOCATION:Kulturzentrum Englische Kirche\, Ferdinandstraße 16\, 61348\, Ba
 d Homburg vor der Höhe
STATUS:CONFIRMED
URL:https://kulvio.de/event/2390
END:VEVENT
END:VCALENDAR
