BEGIN:VCALENDAR
VERSION:2.0
PRODID:-//Kulvio Event Calendar//kulvio.de//
CALSCALE:GREGORIAN
METHOD:PUBLISH
BEGIN:VEVENT
SUMMARY:Fumito Nunoya am Marimbaphon
DTSTART:20260422T170000Z
DTEND:20260422T180000Z
DTSTAMP:20260419T232522Z
UID:kulvio-event-2391@kulvio.de
CATEGORIES:Konzert
CREATED:20260418T193251Z
DESCRIPTION:Der international anerkannte Marimbaphonist Fumito Nunoya gast
 iert im Kulturzentrum Englische Kirche in Bad Homburg. Nunoya gilt als ein
 er der führenden Marimbaphon-Solisten weltweit und beeindruckt mit seiner
  Fähigkeit\, das Instrument regelrecht zum Singen zu bringen. Das Konzert
  bietet einen Abend voller klanglicher Vielfalt und musikalischer Ausdruck
 skraft. Ermäßigte Karten sind für verschiedene Personengruppen bei Vorl
 age eines Ausweises erhältlich.
GEO:50.225276;8.622582
LAST-MODIFIED:20260418T193515Z
LOCATION:Kulturzentrum Englische Kirche\, Ferdinandstraße 16\, 61348\, Ba
 d Homburg vor der Höhe
STATUS:CONFIRMED
URL:https://kulvio.de/event/2391
END:VEVENT
END:VCALENDAR
