BEGIN:VCALENDAR
VERSION:2.0
PRODID:-//Kulvio Event Calendar//kulvio.de//
CALSCALE:GREGORIAN
METHOD:PUBLISH
BEGIN:VEVENT
SUMMARY:Isabel Varell - Die guten alten Zeiten sind jetzt
DTSTART:20260423T180000Z
DTEND:20260423T190000Z
DTSTAMP:20260419T233134Z
UID:kulvio-event-2392@kulvio.de
CATEGORIES:Show,Kabarett
CREATED:20260418T193252Z
DESCRIPTION:Die vielseitige Entertainerin Isabel Varell präsentiert ihr P
 rogramm im Kulturzentrum Englische Kirche in Bad Homburg. Begleitet von Pi
 anist Christian Heckelsmüller erzählt und singt sie auf charmante und hu
 morvolle Weise über das Leben\, die Menschen und die Liebe. Der Abend ver
 bindet heitere Momente mit berührenden Geschichten über den Umgang mit d
 em Älterwerden und die Freude am Hier und Jetzt.
GEO:50.225276;8.622582
LAST-MODIFIED:20260418T193515Z
LOCATION:Kulturzentrum Englische Kirche\, Ferdinandstraße 16\, 61348\, Ba
 d Homburg vor der Höhe
STATUS:CONFIRMED
URL:https://kulvio.de/event/2392
END:VEVENT
END:VCALENDAR
