BEGIN:VCALENDAR
VERSION:2.0
PRODID:-//Kulvio Event Calendar//kulvio.de//
CALSCALE:GREGORIAN
METHOD:PUBLISH
BEGIN:VEVENT
SUMMARY:Tribute to BAP - WaschSalon
DTSTART:20260425T170000Z
DTEND:20260425T180000Z
DTSTAMP:20260419T233118Z
UID:kulvio-event-2393@kulvio.de
CATEGORIES:Konzert
CREATED:20260418T193252Z
DESCRIPTION:Die einzige BAP Tribute Band in Hessen bringt die bekanntesten
  Songs der Kölner Kultgruppe in die Arthouse Zehntscheune in Bad Homburg.
  Sänger Norbert verleiht als waschechter Kölner den Interpretationen aut
 hentisches Flair und kölsch-rockige Energie. Einlass ist ab 18:30 Uhr. Fa
 ns des rheinischen Rocks und alle\, die gute Live-Musik schätzen\, kommen
  an diesem Abend auf ihre Kosten.
GEO:50.226352;8.680101
LAST-MODIFIED:20260418T193515Z
LOCATION:Arthouse Zehntscheune\, Bornstraße 18\, 61352\, Bad Homburg vor 
 der Höhe
STATUS:CONFIRMED
URL:https://kulvio.de/event/2393
END:VEVENT
END:VCALENDAR
