BEGIN:VCALENDAR
VERSION:2.0
PRODID:-//Kulvio Event Calendar//kulvio.de//
CALSCALE:GREGORIAN
METHOD:PUBLISH
BEGIN:VEVENT
SUMMARY:Rubén Molina und Lupe - Flamenco
DTSTART:20260425T180000Z
DTEND:20260425T190000Z
DTSTAMP:20260419T233237Z
UID:kulvio-event-2394@kulvio.de
CATEGORIES:Tanz,Show
CREATED:20260418T193252Z
DESCRIPTION:Zwei international anerkannte spanische Flamenco-Künstler gas
 tieren im Kulturzentrum Englische Kirche in Bad Homburg. Rubén Molina aus
  Córdoba ist Tänzer\, Lehrer und Choreograf mit lebenslanger Leidenschaf
 t für den Flamenco. Lupe\, ebenfalls aus Córdoba\, absolvierte ihre Ausb
 ildung am renommierten Conservatorio Profesional de Danza Luis del Río un
 d trat mit verschiedenen Flamenco-Gruppen auf. Gemeinsam bieten sie einen 
 Abend voller andalusischer Tanzkunst und Leidenschaft.
GEO:50.225276;8.622582
LAST-MODIFIED:20260418T193515Z
LOCATION:Kulturzentrum Englische Kirche\, Ferdinandstraße 16\, 61348\, Ba
 d Homburg vor der Höhe
STATUS:CONFIRMED
URL:https://kulvio.de/event/2394
END:VEVENT
END:VCALENDAR
