BEGIN:VCALENDAR
VERSION:2.0
PRODID:-//Kulvio Event Calendar//kulvio.de//
CALSCALE:GREGORIAN
METHOD:PUBLISH
BEGIN:VEVENT
SUMMARY:Alko-Pop und Klingeltöne - Die Jahrtausend-Show
DTSTART:20260425T180000Z
DTEND:20260425T190000Z
DTSTAMP:20260419T233431Z
UID:kulvio-event-2395@kulvio.de
CATEGORIES:Kabarett,Comedy
CREATED:20260418T193252Z
DESCRIPTION:Das Deutsche Äppelwoi-Theater Bad Homburg zeigt seine aktuell
 e Show mit einer bunten Mischung aus Gags\, Nonsens\, Klamauk und feinsinn
 igem Humor. Die Zuschauer erwartet ein unterhaltsamer Abend im hessischen 
 Mundart-Theater mit Sketchen und Einlagen rund um die Jahrtausendwende. Da
 s Theater im Kurhaus bietet Platz für ein gemütliches Theatererlebnis mi
 t regionaler Küche und Getränken.
GEO:50.227392;8.617012
LAST-MODIFIED:20260418T193515Z
LOCATION:Deutsches Äppelwoi-Theater\, Louisenstraße 58\, 61348\, Bad Hom
 burg vor der Höhe
STATUS:CONFIRMED
URL:https://kulvio.de/event/2395
END:VEVENT
END:VCALENDAR
