BEGIN:VCALENDAR
VERSION:2.0
PRODID:-//Kulvio Event Calendar//kulvio.de//
CALSCALE:GREGORIAN
METHOD:PUBLISH
BEGIN:VEVENT
SUMMARY:Benefizchorkonzert im Kulturzentrum Englische Kirche
DTSTART:20260426T150000Z
DTEND:20260426T160000Z
DTSTAMP:20260419T233239Z
UID:kulvio-event-2396@kulvio.de
CATEGORIES:Konzert
CREATED:20260418T193252Z
DESCRIPTION:Ein Benefizkonzert im Kulturzentrum Englische Kirche in Bad Ho
 mburg unterstützt das Bildungszentrum für Mädchen und Damen e.V. nach d
 essen Umzug. Auf der Bühne stehen die Bad Homburger Harmonixen\, der Chor
  Moving Voices der Musikschule Friedrichsdorf und das Vokalensemble Vierkl
 ang A Cappella. Pianistin Soo-Hyun Ahn begleitet die Chöre unter der Leit
 ung von Lisa Wendel. Der Abend verbindet moderne Pop-Songs mit emotionalen
  Stücken und bringt Hören und Helfen zusammen.
GEO:50.225276;8.622582
LAST-MODIFIED:20260418T193515Z
LOCATION:Kulturzentrum Englische Kirche\, Ferdinandstraße 16\, 61348\, Ba
 d Homburg vor der Höhe
STATUS:CONFIRMED
URL:https://kulvio.de/event/2396
END:VEVENT
END:VCALENDAR
