BEGIN:VCALENDAR
VERSION:2.0
PRODID:-//Kulvio Event Calendar//kulvio.de//
CALSCALE:GREGORIAN
METHOD:PUBLISH
BEGIN:VEVENT
SUMMARY:Ramba Zamba - Die Dschungel-Show
DTSTART:20260427T180000Z
DTEND:20260427T190000Z
DTSTAMP:20260419T232534Z
UID:kulvio-event-2397@kulvio.de
CATEGORIES:Kabarett,Comedy
CREATED:20260418T193252Z
DESCRIPTION:Das Deutsche Äppelwoi-Theater Bad Homburg präsentiert seine 
 aktuelle Freitagsshow mit Katrin Dezius und Lukas Huber. Die Dschungel-Sho
 w bietet eine abwechslungsreiche Mischung aus Sketchen\, Musik und Comedy 
 im typischen Stil des hessischen Mundart-Theaters. Die Zuschauer erwartet 
 ein geselliger Abend mit regionalen Speisen und Getränken im gemütlichen
  Ambiente des Theaters im Kurhaus.
GEO:50.227392;8.617012
LAST-MODIFIED:20260418T193515Z
LOCATION:Deutsches Äppelwoi-Theater\, Louisenstraße 58\, 61348\, Bad Hom
 burg vor der Höhe
STATUS:CONFIRMED
URL:https://kulvio.de/event/2397
END:VEVENT
END:VCALENDAR
