BEGIN:VCALENDAR
VERSION:2.0
PRODID:-//Kulvio Event Calendar//kulvio.de//
CALSCALE:GREGORIAN
METHOD:PUBLISH
BEGIN:VEVENT
SUMMARY:Tanz in den Mai in der Arthouse Zehntscheune
DTSTART:20260430T170000Z
DTEND:20260430T180000Z
DTSTAMP:20260419T232821Z
UID:kulvio-event-2398@kulvio.de
CATEGORIES:Party,Tanz
CREATED:20260418T193252Z
DESCRIPTION:Die Arthouse Zehntscheune in Bad Homburg lädt zum Tanz in den
  Mai ein. Ein DJ sorgt für Musik und gute Stimmung\, um den Frühling geb
 ührend zu begrüßen. Karten gibt es ausschließlich an der Abendkasse. D
 ie Veranstaltung beginnt um 19 Uhr und richtet sich an alle\, die das trad
 itionelle Maifest mit Tanz und guter Laune feiern möchten.
GEO:50.226352;8.680101
LAST-MODIFIED:20260418T193515Z
LOCATION:Arthouse Zehntscheune\, Bornstraße 18\, 61352\, Bad Homburg vor 
 der Höhe
STATUS:CONFIRMED
URL:https://kulvio.de/event/2398
END:VEVENT
END:VCALENDAR
