BEGIN:VCALENDAR
VERSION:2.0
PRODID:-//Kulvio Event Calendar//kulvio.de//
CALSCALE:GREGORIAN
METHOD:PUBLISH
BEGIN:VEVENT
SUMMARY:Tanz in den Mai - Schlager-Disco
DTSTART:20260430T180000Z
DTEND:20260430T190000Z
DTSTAMP:20260419T232546Z
UID:kulvio-event-2399@kulvio.de
CATEGORIES:Party,Tanz
CREATED:20260418T193252Z
DESCRIPTION:Die Englische Kirche in Bad Homburg verwandelt sich in ein Mee
 r aus Glitzer\, Konfetti und bester Stimmung. DJ Jnex legt absolute Kult-H
 its auf\, von den goldenen Siebzigern über eingängige Achtziger bis hin 
 zu modernen Schlager-Ohrwürmern. Die Veranstaltung lädt zum Mitsingen\, 
 Tanzen und Feiern ein und begrüßt den Frühling mit einer ausgelassenen 
 Schlagerparty. Veranstalter ist der Magistrat der Stadt Bad Homburg.
GEO:50.225276;8.622582
LAST-MODIFIED:20260418T193515Z
LOCATION:Kulturzentrum Englische Kirche\, Ferdinandstraße 16\, 61348\, Ba
 d Homburg vor der Höhe
STATUS:CONFIRMED
URL:https://kulvio.de/event/2399
END:VEVENT
END:VCALENDAR
