BEGIN:VCALENDAR
VERSION:2.0
PRODID:-//Kulvio Event Calendar//kulvio.de//
CALSCALE:GREGORIAN
METHOD:PUBLISH
BEGIN:VEVENT
SUMMARY:Ramba Zamba - Die Dschungel-Show
DTSTART:20260508T180000Z
DTEND:20260508T190000Z
DTSTAMP:20260419T233423Z
UID:kulvio-event-2400@kulvio.de
CATEGORIES:Kabarett,Comedy
CREATED:20260418T193252Z
DESCRIPTION:Das Deutsche Äppelwoi-Theater Bad Homburg zeigt erneut seine 
 beliebte Freitagsshow mit Katrin Dezius und Lukas Huber. Die Dschungel-Sho
 w bietet Sketche\, Musik und Comedy im typischen Stil des hessischen Munda
 rt-Theaters. Das Theater im Kurhaus verbindet gemütliche Atmosphäre mit 
 regionaler Küche\, Äppelwoi und einem unterhaltsamen Bühnenprogramm.
GEO:50.227392;8.617012
LAST-MODIFIED:20260418T193515Z
LOCATION:Deutsches Äppelwoi-Theater\, Louisenstraße 58\, 61348\, Bad Hom
 burg vor der Höhe
STATUS:CONFIRMED
URL:https://kulvio.de/event/2400
END:VEVENT
END:VCALENDAR
