BEGIN:VCALENDAR
VERSION:2.0
PRODID:-//Kulvio Event Calendar//kulvio.de//
CALSCALE:GREGORIAN
METHOD:PUBLISH
BEGIN:VEVENT
SUMMARY:Chevy in My Blood - Blues und Soul in der Zehntscheune
DTSTART:20260509T170000Z
DTEND:20260509T180000Z
DTSTAMP:20260419T232522Z
UID:kulvio-event-2401@kulvio.de
CATEGORIES:Konzert
CREATED:20260418T193252Z
DESCRIPTION:Das Trio aus K. Marie Miller\, Hendrik Fricke und Alexander Th
 elen bringt Blues\, Soul\, Gospel und Americana in die Arthouse Zehntscheu
 ne in Bad Homburg. K. Marie Miller arbeitete international als Session- un
 d Live-Sängerin und verbindet verschiedene Musikstile zu einem intensiven
 \, erdigen Sound. Einlass ist ab 18:30 Uhr. Der Abend richtet sich an alle
  Liebhaber handgemachter Musik mit Tiefe und Leidenschaft.
GEO:50.226352;8.680101
LAST-MODIFIED:20260418T193515Z
LOCATION:Arthouse Zehntscheune\, Bornstraße 18\, 61352\, Bad Homburg vor 
 der Höhe
STATUS:CONFIRMED
URL:https://kulvio.de/event/2401
END:VEVENT
END:VCALENDAR
